BEGIN:VCALENDAR
VERSION:2.0
PRODID:spatie/icalendar-generator
DESCRIPTION:Events from Order of the Eastern Star Manitoba
X-WR-CALDESC:Events from Order of the Eastern Star Manitoba
REFRESH-INTERVAL;VALUE=DURATION:PT1440M
X-PUBLISHED-TTL:PT1440M
BEGIN:VTIMEZONE
TZID:America/Winnipeg
BEGIN:STANDARD
DTSTART:20251102T020000Z
TZOFFSETFROM:-0500
TZOFFSETTO:-0600
END:STANDARD
BEGIN:DAYLIGHT
DTSTART:20260308T020000Z
TZOFFSETFROM:-0600
TZOFFSETTO:-0500
END:DAYLIGHT
END:VTIMEZONE
BEGIN:VTIMEZONE
TZID:UTC
BEGIN:STANDARD
DTSTART:20250723T125341Z
TZOFFSETFROM:+0000
TZOFFSETTO:+0000
END:STANDARD
END:VTIMEZONE
BEGIN:VEVENT
UID:442-320
DTSTAMP:20260419T125341Z
SUMMARY:Friendship meeting
LOCATION:Chalet 52-525 Cathcart Street  Winnipeg Manitoba R3R 0S6
ORGANIZER;CN=Grand Secretary:MAILTO:grsec@oesmanitoba.ca
DTSTART;TZID=America/Winnipeg:20260316T193000
DTEND;TZID=America/Winnipeg:20260316T203000
X-ALT-DESC;FMTTYPE=TEXT/HTML:General Business\, honouring AGP and G Secreta
 ry\, honouring G Representative\, Elections
CATEGORIES:OES Events
URL;VALUE=URI:https://oesmanitoba.ca/news/?mc_id=442&#038;vcal=442
METHOD:PUBLISH
END:VEVENT
END:VCALENDAR