BEGIN:VCALENDAR
VERSION:2.0
PRODID:spatie/icalendar-generator
DESCRIPTION:Events from Order of the Eastern Star Manitoba
X-WR-CALDESC:Events from Order of the Eastern Star Manitoba
REFRESH-INTERVAL;VALUE=DURATION:PT1440M
X-PUBLISHED-TTL:PT1440M
BEGIN:VTIMEZONE
TZID:America/Winnipeg
BEGIN:STANDARD
DTSTART:20241103T020000Z
TZOFFSETFROM:-0500
TZOFFSETTO:-0600
END:STANDARD
BEGIN:DAYLIGHT
DTSTART:20250309T020000Z
TZOFFSETFROM:-0600
TZOFFSETTO:-0500
END:DAYLIGHT
END:VTIMEZONE
BEGIN:VTIMEZONE
TZID:UTC
BEGIN:STANDARD
DTSTART:20250724T095408Z
TZOFFSETFROM:+0000
TZOFFSETTO:+0000
END:STANDARD
END:VTIMEZONE
BEGIN:VEVENT
UID:333-229
DTSTAMP:20260420T095408Z
SUMMARY:Queen Mary Meeting
LOCATION:
ORGANIZER;CN=SANDRA EBATA:MAILTO:ebatas@mts.net
DTSTART;TZID=America/Winnipeg:20250310T193000
DTEND;TZID=America/Winnipeg:20250310T203000
X-ALT-DESC;FMTTYPE=TEXT/HTML:Elections\, Honouring Appointed Grand Officers
 : Grand Marshal Shannon Leachman\, Grand Organist Doreen Stapleton\, Grand
  Adah Barbara Borowski and Grand Ruth Elizabeth Csversko
CATEGORIES:OES Events
URL;VALUE=URI:https://oesmanitoba.ca/news/?mc_id=333&#038;vcal=333
METHOD:PUBLISH
END:VEVENT
END:VCALENDAR